BEGIN:VCALENDAR
VERSION:2.0
PRODID:-//BOOT Hamburg - ECPv6.15.20//NONSGML v1.0//EN
CALSCALE:GREGORIAN
METHOD:PUBLISH
X-ORIGINAL-URL:https://boot-in-hamburg.de
X-WR-CALDESC:Veranstaltungen für BOOT Hamburg
REFRESH-INTERVAL;VALUE=DURATION:PT1H
X-Robots-Tag:noindex
X-PUBLISHED-TTL:PT1H
BEGIN:VTIMEZONE
TZID:Europe/Berlin
BEGIN:DAYLIGHT
TZOFFSETFROM:+0100
TZOFFSETTO:+0200
TZNAME:CEST
DTSTART:20250330T010000
END:DAYLIGHT
BEGIN:STANDARD
TZOFFSETFROM:+0200
TZOFFSETTO:+0100
TZNAME:CET
DTSTART:20251026T010000
END:STANDARD
BEGIN:DAYLIGHT
TZOFFSETFROM:+0100
TZOFFSETTO:+0200
TZNAME:CEST
DTSTART:20260329T010000
END:DAYLIGHT
BEGIN:STANDARD
TZOFFSETFROM:+0200
TZOFFSETTO:+0100
TZNAME:CET
DTSTART:20261025T010000
END:STANDARD
BEGIN:DAYLIGHT
TZOFFSETFROM:+0100
TZOFFSETTO:+0200
TZNAME:CEST
DTSTART:20270328T010000
END:DAYLIGHT
BEGIN:STANDARD
TZOFFSETFROM:+0200
TZOFFSETTO:+0100
TZNAME:CET
DTSTART:20271031T010000
END:STANDARD
END:VTIMEZONE
BEGIN:VEVENT
DTSTART;TZID=Europe/Berlin:20260508T160000
DTEND;TZID=Europe/Berlin:20260508T210000
DTSTAMP:20260424T110349
CREATED:20260113T104337Z
LAST-MODIFIED:20260424T072014Z
UID:8389-1778256000-1778274000@boot-in-hamburg.de
SUMMARY:DJ-Set beim BOOT: Ben Ethek am 8. Mai
DESCRIPTION:Ben Ethek legt bei der BOOT-Auftaktveranstaltung zum Architektursommer auf\n\n\n\nDJ Ben Ethek serviert euch entspannte Sounds vom Plattenteller. Vinyl – schwarz\, bunt und handverlesen: Soul\, Jazz\, Hip Hop and more….Spätsommerliches chillen und tanzen am Bille-Beach mit Blick aufs Wasser.  \n\n\n\nAb 17:00 wird es dann „bummelig offiziell“ – Wir haben Gäste aus Verwaltung und Politik bei uns und stellen Euch vor\, was wir in den nächsten 10 Jahren beim BOOT planen \n\n\n\nKommt vorbei und bringt eure Kids mit! \n\n\n\nMusic sound better with you\n\n\n\n\n\n„Wir Hamm Süd“: Das Café ist von 14:00 bis 22:00 geöffnet \n\n\n\nIm Osterbrook sind keine Parkplätze verfügbar.Buslinie 112: Endhaltestelle OsterbrookplatzBuslinie 130: Braune BrückeStadtradstation am Osterbrookplatz \n\n\n\nBitte verzichtet darauf\, Speisen und Getränke mitzubringen. Ihr unterstützt uns mit dem Kauf von Getränken und Speisen in unserem Café. \n\n\n\nMenschen mit Handicap unterstützen wir sehr gerne: Ihr könnt uns unter ‭+49 163 3707953‬ anrufen. \n\n\n\nZweiter Termin mit Ben am 29. August\n\n\n\n  \n\n\n\n\n\n\n\n\n\n\n\n\n\n\n\n\n\n\n\n\n\n\n\n\n\nEine Veranstaltung im 11. Hamburger Architektursommer\, gefördert von der Bezirksversammlung Hamburg-Mitte
URL:https://boot-in-hamburg.de/event/dj-set-beim-boot-ben-ethek-am-8-mai
LOCATION:BOOT eV am Osterbrookplatz 18(a); Bus 112 bis „Osterbrookplatz“ – wir liegen in der Buswendeschleife in der Einfahrt rechts am Wasser.\, Osterbrookplatz 18(a)\, Hamburg\, 20537
CATEGORIES:BOOTsWagen-Café,DJ-Set,familiengerecht,Musik
ATTACH;FMTTYPE=image/jpeg:https://boot-in-hamburg.de/wp-content/uploads/2022/06/sm_BW_Benethek_w_NEW7533.jpg
END:VEVENT
BEGIN:VEVENT
DTSTART;TZID=Europe/Berlin:20260508T170000
DTEND;TZID=Europe/Berlin:20260508T220000
DTSTAMP:20260424T110349
CREATED:20251224T125924Z
LAST-MODIFIED:20260424T073602Z
UID:8339-1778259600-1778277600@boot-in-hamburg.de
SUMMARY:Das BOOT im Architektursommer: 10 More Years
DESCRIPTION:Heute beginnt beim BOOT der Architektursommer – Und wir erzählen Euch\, was wir in den nächsten 10 Jahren beim BOOT vorhaben \n\n\n\nMit: Dirk Darmstaedter („the Jeremy Days“) und DJ Ben Ethek\n\n\n\nProgramm \n\n\n\n\nab 16:00 DJ Ben Ethek\n\n\n\n17:00 Dirk Darmstaedter\n\n\n\n17:30 Gastbeiträge\n\n\n\n17:45 BOOT eV Vorsitzender Stefan Malzkorn: „das BOOT – 10 more years“\n\n\n\n18:00 Dirk Darmstaedter\n\n\n\n18:30 DJ Ben Ethek\n\n\n\n\nZum dritten Mal sind wir seit 2019 und 2023 im Architektursommer mit dabei: 2019 mit dem BOOTsWagen-Cafe´ und 2023 mit dem Stapellauf für das BOOT am Osterbrookplatz. \n\n\n\nWir blicken auf die nächsten 10 Jahre beim BOOT und stellen Euch das aktualisierte BOOT-Konzept vor\, mit dem wir uns 2020 erfolgreich für „Mitte Machen“ beworben hatten. \n\n\n\nSchon heute sind wir im Sommer mitten in Hamburg ein schöner Platz für Alle am Wasser\, für Begegnungen\, Kanufahrten\, zum Entspannen und für Kultur.  \n\n\n\nIn den nächsten Jahren wollen wir immer mehr von einer saisonalen Improvisation zu einen Ganzjahresbetrieb werden. Wie wir das machen werden\, erzählen wir Euch heute – und für den Nachhauseweg geben wir Euch die brandbrandneue BOOT-Broschüre mit. \n\n\n\n\nWir beginnen den 11. Hamburger Architektursommer beim BOOT
URL:https://boot-in-hamburg.de/event/das-boot-im-architektursommer-10-more-years
LOCATION:BOOT eV am Osterbrookplatz 18(a); Bus 112 bis „Osterbrookplatz“ – wir liegen in der Buswendeschleife in der Einfahrt rechts am Wasser.\, Osterbrookplatz 18(a)\, Hamburg\, 20537
CATEGORIES:Architektursommer,Konzert,Musik,Veranstaltung
ATTACH;FMTTYPE=image/jpeg:https://boot-in-hamburg.de/wp-content/uploads/2025/11/boot_Logo_RIVA_10-more-years.jpg
END:VEVENT
END:VCALENDAR